BEGIN:VCALENDAR
VERSION:2.0
PRODID:-//Tauchgruppe Seehund Ravensburg e.V. - ECPv6.15.20//NONSGML v1.0//EN
CALSCALE:GREGORIAN
METHOD:PUBLISH
X-WR-CALNAME:Tauchgruppe Seehund Ravensburg e.V.
X-ORIGINAL-URL:https://www.tgseehund.de
X-WR-CALDESC:Veranstaltungen für Tauchgruppe Seehund Ravensburg e.V.
REFRESH-INTERVAL;VALUE=DURATION:PT1H
X-Robots-Tag:noindex
X-PUBLISHED-TTL:PT1H
BEGIN:VTIMEZONE
TZID:Europe/Berlin
BEGIN:DAYLIGHT
TZOFFSETFROM:+0100
TZOFFSETTO:+0200
TZNAME:CEST
DTSTART:20250330T010000
END:DAYLIGHT
BEGIN:STANDARD
TZOFFSETFROM:+0200
TZOFFSETTO:+0100
TZNAME:CET
DTSTART:20251026T010000
END:STANDARD
BEGIN:DAYLIGHT
TZOFFSETFROM:+0100
TZOFFSETTO:+0200
TZNAME:CEST
DTSTART:20260329T010000
END:DAYLIGHT
BEGIN:STANDARD
TZOFFSETFROM:+0200
TZOFFSETTO:+0100
TZNAME:CET
DTSTART:20261025T010000
END:STANDARD
BEGIN:DAYLIGHT
TZOFFSETFROM:+0100
TZOFFSETTO:+0200
TZNAME:CEST
DTSTART:20270328T010000
END:DAYLIGHT
BEGIN:STANDARD
TZOFFSETFROM:+0200
TZOFFSETTO:+0100
TZNAME:CET
DTSTART:20271031T010000
END:STANDARD
END:VTIMEZONE
BEGIN:VEVENT
DTSTART;TZID=Europe/Berlin:20260601T200000
DTEND;TZID=Europe/Berlin:20260601T213000
DTSTAMP:20260420T113701
CREATED:20260107T141407Z
LAST-MODIFIED:20260107T141409Z
UID:1369-1780344000-1780349400@www.tgseehund.de
SUMMARY:Kein Training: Pfingstferien
DESCRIPTION:
URL:https://www.tgseehund.de/termin/kein-training-pfingstferien-10/
LOCATION:Hallenbad Ravensburg\, Ziegelstraße 33\, Ravensburg\, 88214\, Deutschland
CATEGORIES:Training
END:VEVENT
BEGIN:VEVENT
DTSTART;TZID=Europe/Berlin:20260608T200000
DTEND;TZID=Europe/Berlin:20260608T213000
DTSTAMP:20260420T113701
CREATED:20260107T141408Z
LAST-MODIFIED:20260107T141409Z
UID:1370-1780948800-1780954200@www.tgseehund.de
SUMMARY:ABC: Langstrecke und Unterwasserparcour
DESCRIPTION:
URL:https://www.tgseehund.de/termin/abc-langstrecke-und-unterwasserparcour-2/
LOCATION:Hallenbad Ravensburg\, Ziegelstraße 33\, Ravensburg\, 88214\, Deutschland
CATEGORIES:Training
END:VEVENT
BEGIN:VEVENT
DTSTART;TZID=Europe/Berlin:20260615T200000
DTEND;TZID=Europe/Berlin:20260615T213000
DTSTAMP:20260420T113701
CREATED:20260107T141408Z
LAST-MODIFIED:20260107T141409Z
UID:1371-1781553600-1781559000@www.tgseehund.de
SUMMARY:PTG: Luftverbrauch
DESCRIPTION:
URL:https://www.tgseehund.de/termin/ptg-luftverbrauch-3/
LOCATION:Hallenbad Ravensburg\, Ziegelstraße 33\, Ravensburg\, 88214\, Deutschland
CATEGORIES:Training
END:VEVENT
BEGIN:VEVENT
DTSTART;TZID=Europe/Berlin:20260622T200000
DTEND;TZID=Europe/Berlin:20260622T213000
DTSTAMP:20260420T113701
CREATED:20260107T141408Z
LAST-MODIFIED:20260107T141409Z
UID:1372-1782158400-1782163800@www.tgseehund.de
SUMMARY:ABC: Kraft und Ausdauer
DESCRIPTION:
URL:https://www.tgseehund.de/termin/abc-kraft-und-ausdauer-2/
LOCATION:Hallenbad Ravensburg\, Ziegelstraße 33\, Ravensburg\, 88214\, Deutschland
CATEGORIES:Training
END:VEVENT
BEGIN:VEVENT
DTSTART;TZID=Europe/Berlin:20260629T200000
DTEND;TZID=Europe/Berlin:20260629T213000
DTSTAMP:20260420T113701
CREATED:20260107T141425Z
LAST-MODIFIED:20260107T141425Z
UID:1378-1782763200-1782768600@www.tgseehund.de
SUMMARY:PTG: Bojen\, Kompasse und anderes Equipment
DESCRIPTION:
URL:https://www.tgseehund.de/termin/ptg-bojen-kompasse-und-anderes-equipment/
LOCATION:Hallenbad Ravensburg\, Ziegelstraße 33\, Ravensburg\, 88214\, Deutschland
CATEGORIES:Training
END:VEVENT
END:VCALENDAR