BEGIN:VCALENDAR
VERSION:2.0
PRODID:-//Tauchgruppe Seehund Ravensburg e.V. - ECPv6.15.20//NONSGML v1.0//EN
CALSCALE:GREGORIAN
METHOD:PUBLISH
X-ORIGINAL-URL:https://www.tgseehund.de
X-WR-CALDESC:Veranstaltungen für Tauchgruppe Seehund Ravensburg e.V.
REFRESH-INTERVAL;VALUE=DURATION:PT1H
X-Robots-Tag:noindex
X-PUBLISHED-TTL:PT1H
BEGIN:VTIMEZONE
TZID:Europe/Berlin
BEGIN:DAYLIGHT
TZOFFSETFROM:+0100
TZOFFSETTO:+0200
TZNAME:CEST
DTSTART:20240331T010000
END:DAYLIGHT
BEGIN:STANDARD
TZOFFSETFROM:+0200
TZOFFSETTO:+0100
TZNAME:CET
DTSTART:20241027T010000
END:STANDARD
BEGIN:DAYLIGHT
TZOFFSETFROM:+0100
TZOFFSETTO:+0200
TZNAME:CEST
DTSTART:20250330T010000
END:DAYLIGHT
BEGIN:STANDARD
TZOFFSETFROM:+0200
TZOFFSETTO:+0100
TZNAME:CET
DTSTART:20251026T010000
END:STANDARD
BEGIN:DAYLIGHT
TZOFFSETFROM:+0100
TZOFFSETTO:+0200
TZNAME:CEST
DTSTART:20260329T010000
END:DAYLIGHT
BEGIN:STANDARD
TZOFFSETFROM:+0200
TZOFFSETTO:+0100
TZNAME:CET
DTSTART:20261025T010000
END:STANDARD
END:VTIMEZONE
BEGIN:VEVENT
DTSTART;TZID=Europe/Berlin:20250602T200000
DTEND;TZID=Europe/Berlin:20250602T213000
DTSTAMP:20260422T201238
CREATED:20250105T141556Z
LAST-MODIFIED:20250105T141556Z
UID:1273-1748894400-1748899800@www.tgseehund.de
SUMMARY:PTG: Luftverbrauch
DESCRIPTION:
URL:https://www.tgseehund.de/termin/ptg-luftverbrauch-2/
LOCATION:Hallenbad Ravensburg\, Ziegelstraße 33\, Ravensburg\, 88214\, Deutschland
CATEGORIES:Training
END:VEVENT
BEGIN:VEVENT
DTSTART;TZID=Europe/Berlin:20250609T200000
DTEND;TZID=Europe/Berlin:20250609T213000
DTSTAMP:20260422T201238
CREATED:20250105T141556Z
LAST-MODIFIED:20250105T141556Z
UID:1274-1749499200-1749504600@www.tgseehund.de
SUMMARY:Kein Training: Pfingstferien
DESCRIPTION:
URL:https://www.tgseehund.de/termin/kein-training-pfingstferien-7/
LOCATION:Hallenbad Ravensburg\, Ziegelstraße 33\, Ravensburg\, 88214\, Deutschland
CATEGORIES:Training
END:VEVENT
BEGIN:VEVENT
DTSTART;TZID=Europe/Berlin:20250614T160000
DTEND;TZID=Europe/Berlin:20250614T233000
DTSTAMP:20260422T201238
CREATED:20250209T163322Z
LAST-MODIFIED:20250526T091952Z
UID:1314-1749916800-1749943800@www.tgseehund.de
SUMMARY:Grillfest bei Alfred zu Hause
DESCRIPTION:
URL:https://www.tgseehund.de/termin/grillfest-bei-alfred-zu-hause/
CATEGORIES:Vereinsintern
END:VEVENT
BEGIN:VEVENT
DTSTART;TZID=Europe/Berlin:20250616T200000
DTEND;TZID=Europe/Berlin:20250616T213000
DTSTAMP:20260422T201238
CREATED:20250105T141556Z
LAST-MODIFIED:20250105T141556Z
UID:1275-1750104000-1750109400@www.tgseehund.de
SUMMARY:Kein Training: Pfingstferien
DESCRIPTION:
URL:https://www.tgseehund.de/termin/kein-training-pfingstferien-8/
LOCATION:Hallenbad Ravensburg\, Ziegelstraße 33\, Ravensburg\, 88214\, Deutschland
CATEGORIES:Training
END:VEVENT
BEGIN:VEVENT
DTSTART;TZID=Europe/Berlin:20250623T200000
DTEND;TZID=Europe/Berlin:20250623T213000
DTSTAMP:20260422T201238
CREATED:20250105T141557Z
LAST-MODIFIED:20250105T141557Z
UID:1276-1750708800-1750714200@www.tgseehund.de
SUMMARY:ABC: Kraft und Ausdauer
DESCRIPTION:
URL:https://www.tgseehund.de/termin/abc-kraft-und-ausdauer/
LOCATION:Hallenbad Ravensburg\, Ziegelstraße 33\, Ravensburg\, 88214\, Deutschland
CATEGORIES:Training
END:VEVENT
BEGIN:VEVENT
DTSTART;VALUE=DATE:20250627
DTEND;VALUE=DATE:20250630
DTSTAMP:20260422T201238
CREATED:20250209T163425Z
LAST-MODIFIED:20250209T163425Z
UID:1316-1750982400-1751241599@www.tgseehund.de
SUMMARY:Tauchausflug ins Verzascatal
DESCRIPTION:
URL:https://www.tgseehund.de/termin/tauchausflug-ins-verzascatal/
CATEGORIES:Veranstaltung
END:VEVENT
BEGIN:VEVENT
DTSTART;TZID=Europe/Berlin:20250630T200000
DTEND;TZID=Europe/Berlin:20250630T213000
DTSTAMP:20260422T201238
CREATED:20250105T141607Z
LAST-MODIFIED:20250105T141957Z
UID:1277-1751313600-1751319000@www.tgseehund.de
SUMMARY:PTG: Bojen\, Kompasse und anderes Equipment
DESCRIPTION:
URL:https://www.tgseehund.de/termin/ptg-bojen/
LOCATION:Hallenbad Ravensburg\, Ziegelstraße 33\, Ravensburg\, 88214\, Deutschland
CATEGORIES:Training
END:VEVENT
END:VCALENDAR