BEGIN:VCALENDAR
VERSION:2.0
PRODID:-//Tauchgruppe Seehund Ravensburg e.V. - ECPv6.15.20//NONSGML v1.0//EN
CALSCALE:GREGORIAN
METHOD:PUBLISH
X-WR-CALNAME:Tauchgruppe Seehund Ravensburg e.V.
X-ORIGINAL-URL:https://www.tgseehund.de
X-WR-CALDESC:Veranstaltungen für Tauchgruppe Seehund Ravensburg e.V.
REFRESH-INTERVAL;VALUE=DURATION:PT1H
X-Robots-Tag:noindex
X-PUBLISHED-TTL:PT1H
BEGIN:VTIMEZONE
TZID:Europe/Berlin
BEGIN:DAYLIGHT
TZOFFSETFROM:+0100
TZOFFSETTO:+0200
TZNAME:CEST
DTSTART:20240331T010000
END:DAYLIGHT
BEGIN:STANDARD
TZOFFSETFROM:+0200
TZOFFSETTO:+0100
TZNAME:CET
DTSTART:20241027T010000
END:STANDARD
BEGIN:DAYLIGHT
TZOFFSETFROM:+0100
TZOFFSETTO:+0200
TZNAME:CEST
DTSTART:20250330T010000
END:DAYLIGHT
BEGIN:STANDARD
TZOFFSETFROM:+0200
TZOFFSETTO:+0100
TZNAME:CET
DTSTART:20251026T010000
END:STANDARD
BEGIN:DAYLIGHT
TZOFFSETFROM:+0100
TZOFFSETTO:+0200
TZNAME:CEST
DTSTART:20260329T010000
END:DAYLIGHT
BEGIN:STANDARD
TZOFFSETFROM:+0200
TZOFFSETTO:+0100
TZNAME:CET
DTSTART:20261025T010000
END:STANDARD
END:VTIMEZONE
BEGIN:VEVENT
DTSTART;TZID=Europe/Berlin:20250505T200000
DTEND;TZID=Europe/Berlin:20250505T213000
DTSTAMP:20260422T213615
CREATED:20250105T141542Z
LAST-MODIFIED:20250105T141542Z
UID:1269-1746475200-1746480600@www.tgseehund.de
SUMMARY:ABC: Urlaubsvorbereitung
DESCRIPTION:
URL:https://www.tgseehund.de/termin/abc-urlaubsvorbereitung-7/
LOCATION:Hallenbad Ravensburg\, Ziegelstraße 33\, Ravensburg\, 88214\, Deutschland
CATEGORIES:Training
END:VEVENT
BEGIN:VEVENT
DTSTART;TZID=Europe/Berlin:20250512T200000
DTEND;TZID=Europe/Berlin:20250512T213000
DTSTAMP:20260422T213615
CREATED:20250105T141542Z
LAST-MODIFIED:20250105T141542Z
UID:1270-1747080000-1747085400@www.tgseehund.de
SUMMARY:PTG: Urlaubsvorbereitung/check dive
DESCRIPTION:
URL:https://www.tgseehund.de/termin/ptg-urlaubsvorbereitung-check-dive-5/
LOCATION:Hallenbad Ravensburg\, Ziegelstraße 33\, Ravensburg\, 88214\, Deutschland
CATEGORIES:Training
END:VEVENT
BEGIN:VEVENT
DTSTART;VALUE=DATE:20250517
DTEND;VALUE=DATE:20250518
DTSTAMP:20260422T213615
CREATED:20250209T163214Z
LAST-MODIFIED:20250209T163214Z
UID:1312-1747440000-1747526399@www.tgseehund.de
SUMMARY:Tauchausflug zum Blindsee
DESCRIPTION:
URL:https://www.tgseehund.de/termin/tauchausflug-zum-blindsee/
CATEGORIES:Veranstaltung
END:VEVENT
BEGIN:VEVENT
DTSTART;TZID=Europe/Berlin:20250519T200000
DTEND;TZID=Europe/Berlin:20250519T213000
DTSTAMP:20260422T213615
CREATED:20250105T141542Z
LAST-MODIFIED:20250105T141542Z
UID:1271-1747684800-1747690200@www.tgseehund.de
SUMMARY:ABC: Tauchsicherheit
DESCRIPTION:
URL:https://www.tgseehund.de/termin/abc-tauchsicherheit-2/
LOCATION:Hallenbad Ravensburg\, Ziegelstraße 33\, Ravensburg\, 88214\, Deutschland
CATEGORIES:Training
END:VEVENT
BEGIN:VEVENT
DTSTART;TZID=Europe/Berlin:20250526T200000
DTEND;TZID=Europe/Berlin:20250526T213000
DTSTAMP:20260422T213615
CREATED:20250105T141556Z
LAST-MODIFIED:20250105T141556Z
UID:1272-1748289600-1748295000@www.tgseehund.de
SUMMARY:ABC: Langstrecke und Unterwasserparcour
DESCRIPTION:
URL:https://www.tgseehund.de/termin/abc-langstrecke-und-unterwasserparcour/
LOCATION:Hallenbad Ravensburg\, Ziegelstraße 33\, Ravensburg\, 88214\, Deutschland
CATEGORIES:Training
END:VEVENT
END:VCALENDAR