BEGIN:VCALENDAR
VERSION:2.0
PRODID:-//Tauchgruppe Seehund Ravensburg e.V. - ECPv6.15.20//NONSGML v1.0//EN
CALSCALE:GREGORIAN
METHOD:PUBLISH
X-ORIGINAL-URL:https://www.tgseehund.de
X-WR-CALDESC:Veranstaltungen für Tauchgruppe Seehund Ravensburg e.V.
REFRESH-INTERVAL;VALUE=DURATION:PT1H
X-Robots-Tag:noindex
X-PUBLISHED-TTL:PT1H
BEGIN:VTIMEZONE
TZID:Europe/Berlin
BEGIN:DAYLIGHT
TZOFFSETFROM:+0100
TZOFFSETTO:+0200
TZNAME:CEST
DTSTART:20240331T010000
END:DAYLIGHT
BEGIN:STANDARD
TZOFFSETFROM:+0200
TZOFFSETTO:+0100
TZNAME:CET
DTSTART:20241027T010000
END:STANDARD
BEGIN:DAYLIGHT
TZOFFSETFROM:+0100
TZOFFSETTO:+0200
TZNAME:CEST
DTSTART:20250330T010000
END:DAYLIGHT
BEGIN:STANDARD
TZOFFSETFROM:+0200
TZOFFSETTO:+0100
TZNAME:CET
DTSTART:20251026T010000
END:STANDARD
BEGIN:DAYLIGHT
TZOFFSETFROM:+0100
TZOFFSETTO:+0200
TZNAME:CEST
DTSTART:20260329T010000
END:DAYLIGHT
BEGIN:STANDARD
TZOFFSETFROM:+0200
TZOFFSETTO:+0100
TZNAME:CET
DTSTART:20261025T010000
END:STANDARD
END:VTIMEZONE
BEGIN:VEVENT
DTSTART;TZID=Europe/Berlin:20250407T200000
DTEND;TZID=Europe/Berlin:20250407T213000
DTSTAMP:20260423T004917
CREATED:20250105T141525Z
LAST-MODIFIED:20250105T141526Z
UID:1260-1744056000-1744061400@www.tgseehund.de
SUMMARY:PTG: Retten und Bergen
DESCRIPTION:
URL:https://www.tgseehund.de/termin/ptg-retten-und-bergen-3/
LOCATION:Hallenbad Ravensburg\, Ziegelstraße 33\, Ravensburg\, 88214\, Deutschland
CATEGORIES:Training
END:VEVENT
BEGIN:VEVENT
DTSTART;TZID=Europe/Berlin:20250414T200000
DTEND;TZID=Europe/Berlin:20250414T213000
DTSTAMP:20260423T004917
CREATED:20250105T141525Z
LAST-MODIFIED:20250105T141526Z
UID:1261-1744660800-1744666200@www.tgseehund.de
SUMMARY:Kein Training: Osterferien
DESCRIPTION:
URL:https://www.tgseehund.de/termin/kein-training-osterferien-11/
LOCATION:Hallenbad Ravensburg\, Ziegelstraße 33\, Ravensburg\, 88214\, Deutschland
CATEGORIES:Training
END:VEVENT
BEGIN:VEVENT
DTSTART;TZID=Europe/Berlin:20250421T200000
DTEND;TZID=Europe/Berlin:20250421T213000
DTSTAMP:20260423T004917
CREATED:20250105T141542Z
LAST-MODIFIED:20250105T141542Z
UID:1267-1745265600-1745271000@www.tgseehund.de
SUMMARY:Kein Training: Osterferien
DESCRIPTION:
URL:https://www.tgseehund.de/termin/kein-training-osterferien-12/
LOCATION:Hallenbad Ravensburg\, Ziegelstraße 33\, Ravensburg\, 88214\, Deutschland
CATEGORIES:Training
END:VEVENT
BEGIN:VEVENT
DTSTART;TZID=Europe/Berlin:20250428T200000
DTEND;TZID=Europe/Berlin:20250428T213000
DTSTAMP:20260423T004917
CREATED:20250105T141542Z
LAST-MODIFIED:20250105T141542Z
UID:1268-1745870400-1745875800@www.tgseehund.de
SUMMARY:ABC: weiter und schneller Schnorcheln
DESCRIPTION:
URL:https://www.tgseehund.de/termin/abc-weiter-und-schneller-schnorcheln-3/
LOCATION:Hallenbad Ravensburg\, Ziegelstraße 33\, Ravensburg\, 88214\, Deutschland
CATEGORIES:Training
END:VEVENT
END:VCALENDAR