BEGIN:VCALENDAR
VERSION:2.0
PRODID:-//Tauchgruppe Seehund Ravensburg e.V. - ECPv6.15.20//NONSGML v1.0//EN
CALSCALE:GREGORIAN
METHOD:PUBLISH
X-ORIGINAL-URL:https://www.tgseehund.de
X-WR-CALDESC:Veranstaltungen für Tauchgruppe Seehund Ravensburg e.V.
REFRESH-INTERVAL;VALUE=DURATION:PT1H
X-Robots-Tag:noindex
X-PUBLISHED-TTL:PT1H
BEGIN:VTIMEZONE
TZID:Europe/Berlin
BEGIN:DAYLIGHT
TZOFFSETFROM:+0100
TZOFFSETTO:+0200
TZNAME:CEST
DTSTART:20230326T010000
END:DAYLIGHT
BEGIN:STANDARD
TZOFFSETFROM:+0200
TZOFFSETTO:+0100
TZNAME:CET
DTSTART:20231029T010000
END:STANDARD
BEGIN:DAYLIGHT
TZOFFSETFROM:+0100
TZOFFSETTO:+0200
TZNAME:CEST
DTSTART:20240331T010000
END:DAYLIGHT
BEGIN:STANDARD
TZOFFSETFROM:+0200
TZOFFSETTO:+0100
TZNAME:CET
DTSTART:20241027T010000
END:STANDARD
BEGIN:DAYLIGHT
TZOFFSETFROM:+0100
TZOFFSETTO:+0200
TZNAME:CEST
DTSTART:20250330T010000
END:DAYLIGHT
BEGIN:STANDARD
TZOFFSETFROM:+0200
TZOFFSETTO:+0100
TZNAME:CET
DTSTART:20251026T010000
END:STANDARD
END:VTIMEZONE
BEGIN:VEVENT
DTSTART;TZID=Europe/Berlin:20241007T200000
DTEND;TZID=Europe/Berlin:20241007T213000
DTSTAMP:20260423T093532
CREATED:20240108T100543Z
LAST-MODIFIED:20240108T100543Z
UID:1217-1728331200-1728336600@www.tgseehund.de
SUMMARY:ABC: Verbesserung der Schwimmtechnik 3
DESCRIPTION:
URL:https://www.tgseehund.de/termin/abc-verbesserung-der-schwimmtechnik-3/
LOCATION:Hallenbad Ravensburg\, Ziegelstraße 33\, Ravensburg\, 88214\, Deutschland
CATEGORIES:Training
END:VEVENT
BEGIN:VEVENT
DTSTART;TZID=Europe/Berlin:20241014T200000
DTEND;TZID=Europe/Berlin:20241014T213000
DTSTAMP:20260423T093532
CREATED:20240108T100543Z
LAST-MODIFIED:20240108T100543Z
UID:1218-1728936000-1728941400@www.tgseehund.de
SUMMARY:ABC: Vertrauen
DESCRIPTION:
URL:https://www.tgseehund.de/termin/abc-vertrauen/
LOCATION:Hallenbad Ravensburg\, Ziegelstraße 33\, Ravensburg\, 88214\, Deutschland
CATEGORIES:Training
END:VEVENT
BEGIN:VEVENT
DTSTART;TZID=Europe/Berlin:20241021T200000
DTEND;TZID=Europe/Berlin:20241021T213000
DTSTAMP:20260423T093532
CREATED:20240108T100544Z
LAST-MODIFIED:20240108T100544Z
UID:1219-1729540800-1729546200@www.tgseehund.de
SUMMARY:ABC: Tauchsicherheit
DESCRIPTION:
URL:https://www.tgseehund.de/termin/abc-tauchsicherheit/
LOCATION:Hallenbad Ravensburg\, Ziegelstraße 33\, Ravensburg\, 88214\, Deutschland
CATEGORIES:Training
END:VEVENT
BEGIN:VEVENT
DTSTART;TZID=Europe/Berlin:20241028T200000
DTEND;TZID=Europe/Berlin:20241028T213000
DTSTAMP:20260423T093532
CREATED:20240108T100600Z
LAST-MODIFIED:20240108T100600Z
UID:1220-1730145600-1730151000@www.tgseehund.de
SUMMARY:Kein Training: Herbstferien
DESCRIPTION:
URL:https://www.tgseehund.de/termin/kein-training-herbstferien-6/
LOCATION:Hallenbad Ravensburg\, Ziegelstraße 33\, Ravensburg\, 88214\, Deutschland
CATEGORIES:Training
END:VEVENT
END:VCALENDAR