BEGIN:VCALENDAR
VERSION:2.0
PRODID:-//Tauchgruppe Seehund Ravensburg e.V. - ECPv6.15.20//NONSGML v1.0//EN
CALSCALE:GREGORIAN
METHOD:PUBLISH
X-WR-CALNAME:Tauchgruppe Seehund Ravensburg e.V.
X-ORIGINAL-URL:https://www.tgseehund.de
X-WR-CALDESC:Veranstaltungen für Tauchgruppe Seehund Ravensburg e.V.
REFRESH-INTERVAL;VALUE=DURATION:PT1H
X-Robots-Tag:noindex
X-PUBLISHED-TTL:PT1H
BEGIN:VTIMEZONE
TZID:Europe/Berlin
BEGIN:DAYLIGHT
TZOFFSETFROM:+0100
TZOFFSETTO:+0200
TZNAME:CEST
DTSTART:20220327T010000
END:DAYLIGHT
BEGIN:STANDARD
TZOFFSETFROM:+0200
TZOFFSETTO:+0100
TZNAME:CET
DTSTART:20221030T010000
END:STANDARD
BEGIN:DAYLIGHT
TZOFFSETFROM:+0100
TZOFFSETTO:+0200
TZNAME:CEST
DTSTART:20230326T010000
END:DAYLIGHT
BEGIN:STANDARD
TZOFFSETFROM:+0200
TZOFFSETTO:+0100
TZNAME:CET
DTSTART:20231029T010000
END:STANDARD
BEGIN:DAYLIGHT
TZOFFSETFROM:+0100
TZOFFSETTO:+0200
TZNAME:CEST
DTSTART:20240331T010000
END:DAYLIGHT
BEGIN:STANDARD
TZOFFSETFROM:+0200
TZOFFSETTO:+0100
TZNAME:CET
DTSTART:20241027T010000
END:STANDARD
BEGIN:DAYLIGHT
TZOFFSETFROM:+0100
TZOFFSETTO:+0200
TZNAME:CEST
DTSTART:20250330T010000
END:DAYLIGHT
BEGIN:STANDARD
TZOFFSETFROM:+0200
TZOFFSETTO:+0100
TZNAME:CET
DTSTART:20251026T010000
END:STANDARD
END:VTIMEZONE
BEGIN:VEVENT
DTSTART;TZID=Europe/Berlin:20231225T200000
DTEND;TZID=Europe/Berlin:20240101T213000
DTSTAMP:20260423T215557
CREATED:20221218T122757Z
LAST-MODIFIED:20221218T122757Z
UID:1108-1703534400-1704144600@www.tgseehund.de
SUMMARY:Kein Training: Weihnachtsferien
DESCRIPTION:
URL:https://www.tgseehund.de/termin/kein-training-weihnachtsferien-4/
LOCATION:Hallenbad Ravensburg\, Ziegelstraße 33\, Ravensburg\, 88214\, Deutschland
CATEGORIES:Training
END:VEVENT
BEGIN:VEVENT
DTSTART;TZID=Europe/Berlin:20240108T200000
DTEND;TZID=Europe/Berlin:20240108T213000
DTSTAMP:20260423T215557
CREATED:20240108T090628Z
LAST-MODIFIED:20240108T091344Z
UID:1144-1704744000-1704749400@www.tgseehund.de
SUMMARY:ABC: Weg mit dem Winterspeck
DESCRIPTION:
URL:https://www.tgseehund.de/termin/abc-weg-mit-dem-winterspeck-2/
LOCATION:Hallenbad Ravensburg\, Ziegelstraße 33\, Ravensburg\, 88214\, Deutschland
CATEGORIES:Training
END:VEVENT
BEGIN:VEVENT
DTSTART;TZID=Europe/Berlin:20240115T200000
DTEND;TZID=Europe/Berlin:20240115T213000
DTSTAMP:20260423T215557
CREATED:20240108T090730Z
LAST-MODIFIED:20240108T091319Z
UID:1146-1705348800-1705354200@www.tgseehund.de
SUMMARY:ABC: Verbesserung der Schwimmtechnik 1
DESCRIPTION:
URL:https://www.tgseehund.de/termin/abc-verbesserung-der-schwimmtechnik-1-2/
LOCATION:Hallenbad Ravensburg\, Ziegelstraße 33\, Ravensburg\, 88214\, Deutschland
CATEGORIES:Training
END:VEVENT
BEGIN:VEVENT
DTSTART;TZID=Europe/Berlin:20240122T200000
DTEND;TZID=Europe/Berlin:20240122T213000
DTSTAMP:20260423T215557
CREATED:20240108T090827Z
LAST-MODIFIED:20240108T091307Z
UID:1148-1705953600-1705959000@www.tgseehund.de
SUMMARY:PTG: Ausrüstungskonfiguration
DESCRIPTION:
URL:https://www.tgseehund.de/termin/ptg-ausruestungskonfiguration-2/
LOCATION:Hallenbad Ravensburg\, Ziegelstraße 33\, Ravensburg\, 88214\, Deutschland
CATEGORIES:Training
END:VEVENT
BEGIN:VEVENT
DTSTART;TZID=Europe/Berlin:20240129T200000
DTEND;TZID=Europe/Berlin:20240129T213000
DTSTAMP:20260423T215557
CREATED:20240108T090908Z
LAST-MODIFIED:20240108T091254Z
UID:1150-1706558400-1706563800@www.tgseehund.de
SUMMARY:ABC: Tieftauchen
DESCRIPTION:
URL:https://www.tgseehund.de/termin/abc-tieftauchen-2/
LOCATION:Hallenbad Ravensburg\, Ziegelstraße 33\, Ravensburg\, 88214\, Deutschland
CATEGORIES:Training
END:VEVENT
END:VCALENDAR