BEGIN:VCALENDAR
VERSION:2.0
PRODID:-//Tauchgruppe Seehund Ravensburg e.V. - ECPv6.15.20//NONSGML v1.0//EN
CALSCALE:GREGORIAN
METHOD:PUBLISH
X-ORIGINAL-URL:https://www.tgseehund.de
X-WR-CALDESC:Veranstaltungen für Tauchgruppe Seehund Ravensburg e.V.
REFRESH-INTERVAL;VALUE=DURATION:PT1H
X-Robots-Tag:noindex
X-PUBLISHED-TTL:PT1H
BEGIN:VTIMEZONE
TZID:Europe/Berlin
BEGIN:DAYLIGHT
TZOFFSETFROM:+0100
TZOFFSETTO:+0200
TZNAME:CEST
DTSTART:20240331T010000
END:DAYLIGHT
BEGIN:STANDARD
TZOFFSETFROM:+0200
TZOFFSETTO:+0100
TZNAME:CET
DTSTART:20241027T010000
END:STANDARD
BEGIN:DAYLIGHT
TZOFFSETFROM:+0100
TZOFFSETTO:+0200
TZNAME:CEST
DTSTART:20250330T010000
END:DAYLIGHT
BEGIN:STANDARD
TZOFFSETFROM:+0200
TZOFFSETTO:+0100
TZNAME:CET
DTSTART:20251026T010000
END:STANDARD
BEGIN:DAYLIGHT
TZOFFSETFROM:+0100
TZOFFSETTO:+0200
TZNAME:CEST
DTSTART:20260329T010000
END:DAYLIGHT
BEGIN:STANDARD
TZOFFSETFROM:+0200
TZOFFSETTO:+0100
TZNAME:CET
DTSTART:20261025T010000
END:STANDARD
BEGIN:DAYLIGHT
TZOFFSETFROM:+0100
TZOFFSETTO:+0200
TZNAME:CEST
DTSTART:20270328T010000
END:DAYLIGHT
BEGIN:STANDARD
TZOFFSETFROM:+0200
TZOFFSETTO:+0100
TZNAME:CET
DTSTART:20271031T010000
END:STANDARD
END:VTIMEZONE
BEGIN:VEVENT
DTSTART;TZID=Europe/Berlin:20260413T200000
DTEND;TZID=Europe/Berlin:20260413T213000
DTSTAMP:20260420T055232
CREATED:20260107T141350Z
LAST-MODIFIED:20260107T141350Z
UID:1362-1776110400-1776115800@www.tgseehund.de
SUMMARY:ABC: Verbesserung der Schwimmtechnik 2
DESCRIPTION:
URL:https://www.tgseehund.de/termin/abc-verbesserung-der-schwimmtechnik-2-4/
LOCATION:Hallenbad Ravensburg\, Ziegelstraße 33\, Ravensburg\, 88214\, Deutschland
CATEGORIES:Training
END:VEVENT
BEGIN:VEVENT
DTSTART;TZID=Europe/Berlin:20260406T200000
DTEND;TZID=Europe/Berlin:20260406T213000
DTSTAMP:20260420T055232
CREATED:20260107T141350Z
LAST-MODIFIED:20260107T141350Z
UID:1361-1775505600-1775511000@www.tgseehund.de
SUMMARY:Kein Training: Osterferien
DESCRIPTION:
URL:https://www.tgseehund.de/termin/kein-training-osterferien-14/
LOCATION:Hallenbad Ravensburg\, Ziegelstraße 33\, Ravensburg\, 88214\, Deutschland
CATEGORIES:Training
END:VEVENT
BEGIN:VEVENT
DTSTART;TZID=Europe/Berlin:20260330T200000
DTEND;TZID=Europe/Berlin:20260330T213000
DTSTAMP:20260420T055232
CREATED:20260107T141349Z
LAST-MODIFIED:20260107T141349Z
UID:1360-1774900800-1774906200@www.tgseehund.de
SUMMARY:Kein Training: Osterferien
DESCRIPTION:
URL:https://www.tgseehund.de/termin/kein-training-osterferien-13/
LOCATION:Hallenbad Ravensburg\, Ziegelstraße 33\, Ravensburg\, 88214\, Deutschland
CATEGORIES:Training
END:VEVENT
BEGIN:VEVENT
DTSTART;TZID=Europe/Berlin:20260323T200000
DTEND;TZID=Europe/Berlin:20260323T213000
DTSTAMP:20260420T055232
CREATED:20260107T141349Z
LAST-MODIFIED:20260107T141349Z
UID:1359-1774296000-1774301400@www.tgseehund.de
SUMMARY:ABC: Kondition 1
DESCRIPTION:
URL:https://www.tgseehund.de/termin/abc-kondition-1-6/
LOCATION:Hallenbad Ravensburg\, Ziegelstraße 33\, Ravensburg\, 88214\, Deutschland
CATEGORIES:Training
END:VEVENT
BEGIN:VEVENT
DTSTART;TZID=Europe/Berlin:20260316T200000
DTEND;TZID=Europe/Berlin:20260316T213000
DTSTAMP:20260420T055232
CREATED:20260107T141349Z
LAST-MODIFIED:20260107T141349Z
UID:1358-1773691200-1773696600@www.tgseehund.de
SUMMARY:PTG: Perfekt Tarieren 2
DESCRIPTION:
URL:https://www.tgseehund.de/termin/ptg-perfekt-tarieren-2-4/
LOCATION:Hallenbad Ravensburg\, Ziegelstraße 33\, Ravensburg\, 88214\, Deutschland
CATEGORIES:Training
END:VEVENT
BEGIN:VEVENT
DTSTART;TZID=Europe/Berlin:20260309T200000
DTEND;TZID=Europe/Berlin:20260309T213000
DTSTAMP:20260420T055232
CREATED:20260107T141334Z
LAST-MODIFIED:20260107T141334Z
UID:1357-1773086400-1773091800@www.tgseehund.de
SUMMARY:ABC: Koordination
DESCRIPTION:
URL:https://www.tgseehund.de/termin/abc-koordination-6/
LOCATION:Hallenbad Ravensburg\, Ziegelstraße 33\, Ravensburg\, 88214\, Deutschland
CATEGORIES:Training
END:VEVENT
BEGIN:VEVENT
DTSTART;TZID=Europe/Berlin:20260302T200000
DTEND;TZID=Europe/Berlin:20260302T213000
DTSTAMP:20260420T055232
CREATED:20260107T141333Z
LAST-MODIFIED:20260107T141333Z
UID:1356-1772481600-1772487000@www.tgseehund.de
SUMMARY:ABC: Streckentauchen
DESCRIPTION:
URL:https://www.tgseehund.de/termin/abc-streckentauchen-10/
LOCATION:Hallenbad Ravensburg\, Ziegelstraße 33\, Ravensburg\, 88214\, Deutschland
CATEGORIES:Training
END:VEVENT
BEGIN:VEVENT
DTSTART;TZID=Europe/Berlin:20260223T200000
DTEND;TZID=Europe/Berlin:20260223T213000
DTSTAMP:20260420T055232
CREATED:20260107T141333Z
LAST-MODIFIED:20260107T141333Z
UID:1355-1771876800-1771882200@www.tgseehund.de
SUMMARY:PTG: Perfekt Tarieren 1
DESCRIPTION:
URL:https://www.tgseehund.de/termin/ptg-perfekt-tarieren-1-4/
LOCATION:Hallenbad Ravensburg\, Ziegelstraße 33\, Ravensburg\, 88214\, Deutschland
CATEGORIES:Training
END:VEVENT
BEGIN:VEVENT
DTSTART;TZID=Europe/Berlin:20260216T200000
DTEND;TZID=Europe/Berlin:20260216T213000
DTSTAMP:20260420T055232
CREATED:20260107T141333Z
LAST-MODIFIED:20260107T141333Z
UID:1354-1771272000-1771277400@www.tgseehund.de
SUMMARY:Kein Training: Rosenmontag
DESCRIPTION:
URL:https://www.tgseehund.de/termin/kein-training-rosenmontag-7/
LOCATION:Hallenbad Ravensburg\, Ziegelstraße 33\, Ravensburg\, 88214\, Deutschland
CATEGORIES:Training
END:VEVENT
BEGIN:VEVENT
DTSTART;TZID=Europe/Berlin:20260209T200000
DTEND;TZID=Europe/Berlin:20260209T213000
DTSTAMP:20260420T055232
CREATED:20260107T141333Z
LAST-MODIFIED:20260107T141333Z
UID:1353-1770667200-1770672600@www.tgseehund.de
SUMMARY:ABC: richtiges Abtauchen und Auftauchen
DESCRIPTION:
URL:https://www.tgseehund.de/termin/abc-richtiges-abtauchen-und-auftauchen-2/
LOCATION:Hallenbad Ravensburg\, Ziegelstraße 33\, Ravensburg\, 88214\, Deutschland
CATEGORIES:Training
END:VEVENT
BEGIN:VEVENT
DTSTART;TZID=Europe/Berlin:20260202T200000
DTEND;TZID=Europe/Berlin:20260202T213000
DTSTAMP:20260420T055232
CREATED:20260107T141329Z
LAST-MODIFIED:20260107T141329Z
UID:1352-1770062400-1770067800@www.tgseehund.de
SUMMARY:ABC: Verbesserung der Schwimmtechnik 1
DESCRIPTION:
URL:https://www.tgseehund.de/termin/abc-verbesserung-der-schwimmtechnik-1-4/
LOCATION:Hallenbad Ravensburg\, Ziegelstraße 33\, Ravensburg\, 88214\, Deutschland
CATEGORIES:Training
END:VEVENT
BEGIN:VEVENT
DTSTART;TZID=Europe/Berlin:20260126T200000
DTEND;TZID=Europe/Berlin:20260126T213000
DTSTAMP:20260420T055232
CREATED:20260107T141329Z
LAST-MODIFIED:20260107T141329Z
UID:1351-1769457600-1769463000@www.tgseehund.de
SUMMARY:PTG: Ausrüstungskonfiguration
DESCRIPTION:
URL:https://www.tgseehund.de/termin/ptg-ausruestungskonfiguration-4/
LOCATION:Hallenbad Ravensburg\, Ziegelstraße 33\, Ravensburg\, 88214\, Deutschland
CATEGORIES:Training
END:VEVENT
BEGIN:VEVENT
DTSTART;TZID=Europe/Berlin:20260119T200000
DTEND;TZID=Europe/Berlin:20260119T213000
DTSTAMP:20260420T055232
CREATED:20260107T141329Z
LAST-MODIFIED:20260107T141329Z
UID:1350-1768852800-1768858200@www.tgseehund.de
SUMMARY:ABC: Maskenübungen
DESCRIPTION:
URL:https://www.tgseehund.de/termin/abc-maskenuebungen-6/
LOCATION:Hallenbad Ravensburg\, Ziegelstraße 33\, Ravensburg\, 88214\, Deutschland
CATEGORIES:Training
END:VEVENT
BEGIN:VEVENT
DTSTART;TZID=Europe/Berlin:20260112T200000
DTEND;TZID=Europe/Berlin:20260112T213000
DTSTAMP:20260420T055232
CREATED:20260107T141329Z
LAST-MODIFIED:20260107T141329Z
UID:1349-1768248000-1768253400@www.tgseehund.de
SUMMARY:ABC: Weg mit dem Winterspeck
DESCRIPTION:
URL:https://www.tgseehund.de/termin/abc-weg-mit-dem-winterspeck-4/
LOCATION:Hallenbad Ravensburg\, Ziegelstraße 33\, Ravensburg\, 88214\, Deutschland
CATEGORIES:Training
END:VEVENT
BEGIN:VEVENT
DTSTART;TZID=Europe/Berlin:20260105T200000
DTEND;TZID=Europe/Berlin:20260105T213000
DTSTAMP:20260420T055232
CREATED:20260107T141328Z
LAST-MODIFIED:20260107T141328Z
UID:1348-1767643200-1767648600@www.tgseehund.de
SUMMARY:Kein Training: Weihnachtsferien
DESCRIPTION:
URL:https://www.tgseehund.de/termin/kein-training-weihnachtsferien-8/
LOCATION:Hallenbad Ravensburg\, Ziegelstraße 33\, Ravensburg\, 88214\, Deutschland
CATEGORIES:Training
END:VEVENT
BEGIN:VEVENT
DTSTART;TZID=Europe/Berlin:20251229T200000
DTEND;TZID=Europe/Berlin:20251229T213000
DTSTAMP:20260420T055232
CREATED:20250105T142536Z
LAST-MODIFIED:20250105T142536Z
UID:1303-1767038400-1767043800@www.tgseehund.de
SUMMARY:Kein Training: Weihnachtsferien
DESCRIPTION:
URL:https://www.tgseehund.de/termin/kein-training-weihnachtsferien-7/
LOCATION:Hallenbad Ravensburg\, Ziegelstraße 33\, Ravensburg\, 88214\, Deutschland
CATEGORIES:Training
END:VEVENT
BEGIN:VEVENT
DTSTART;TZID=Europe/Berlin:20251222T200000
DTEND;TZID=Europe/Berlin:20251222T213000
DTSTAMP:20260420T055232
CREATED:20200102T191946Z
LAST-MODIFIED:20250105T142423Z
UID:931-1766433600-1766439000@www.tgseehund.de
SUMMARY:Kein Training: Weihnachtsferien
DESCRIPTION:
URL:https://www.tgseehund.de/termin/kein-training-weihnachtsferien-2/
LOCATION:Hallenbad Ravensburg\, Ziegelstraße 33\, Ravensburg\, 88214\, Deutschland
CATEGORIES:Training
END:VEVENT
BEGIN:VEVENT
DTSTART;TZID=Europe/Berlin:20251215T200000
DTEND;TZID=Europe/Berlin:20251215T213000
DTSTAMP:20260420T055232
CREATED:20250105T141733Z
LAST-MODIFIED:20250105T141733Z
UID:1301-1765828800-1765834200@www.tgseehund.de
SUMMARY:ABC: Winterolympiade
DESCRIPTION:
URL:https://www.tgseehund.de/termin/abc-winterolympiade-5/
LOCATION:Hallenbad Ravensburg\, Ziegelstraße 33\, Ravensburg\, 88214\, Deutschland
CATEGORIES:Training
END:VEVENT
BEGIN:VEVENT
DTSTART;TZID=Europe/Berlin:20251208T200000
DTEND;TZID=Europe/Berlin:20251208T213000
DTSTAMP:20260420T055232
CREATED:20250105T141733Z
LAST-MODIFIED:20250105T141733Z
UID:1300-1765224000-1765229400@www.tgseehund.de
SUMMARY:PTG: Tauchen mit Seil
DESCRIPTION:
URL:https://www.tgseehund.de/termin/ptg-tauchen-mit-seil/
LOCATION:Hallenbad Ravensburg\, Ziegelstraße 33\, Ravensburg\, 88214\, Deutschland
CATEGORIES:Training
END:VEVENT
BEGIN:VEVENT
DTSTART;TZID=Europe/Berlin:20251201T200000
DTEND;TZID=Europe/Berlin:20251201T213000
DTSTAMP:20260420T055232
CREATED:20250105T141733Z
LAST-MODIFIED:20250105T141733Z
UID:1299-1764619200-1764624600@www.tgseehund.de
SUMMARY:ABC: Zirkeltraining
DESCRIPTION:
URL:https://www.tgseehund.de/termin/abc-zirkeltraining-5/
LOCATION:Hallenbad Ravensburg\, Ziegelstraße 33\, Ravensburg\, 88214\, Deutschland
CATEGORIES:Training
END:VEVENT
BEGIN:VEVENT
DTSTART;TZID=Europe/Berlin:20251124T200000
DTEND;TZID=Europe/Berlin:20251124T213000
DTSTAMP:20260420T055232
CREATED:20250105T141733Z
LAST-MODIFIED:20250105T141733Z
UID:1298-1764014400-1764019800@www.tgseehund.de
SUMMARY:ABC: Viereckentauchen
DESCRIPTION:
URL:https://www.tgseehund.de/termin/abc-viereckentauchen-3/
LOCATION:Hallenbad Ravensburg\, Ziegelstraße 33\, Ravensburg\, 88214\, Deutschland
CATEGORIES:Training
END:VEVENT
BEGIN:VEVENT
DTSTART;TZID=Europe/Berlin:20251117T200000
DTEND;TZID=Europe/Berlin:20251117T213000
DTSTAMP:20260420T055232
CREATED:20250105T141733Z
LAST-MODIFIED:20250105T141733Z
UID:1297-1763409600-1763415000@www.tgseehund.de
SUMMARY:ABC: Kondition 3
DESCRIPTION:
URL:https://www.tgseehund.de/termin/abc-kondition-3-5/
LOCATION:Hallenbad Ravensburg\, Ziegelstraße 33\, Ravensburg\, 88214\, Deutschland
CATEGORIES:Training
END:VEVENT
BEGIN:VEVENT
DTSTART;TZID=Europe/Berlin:20251110T200000
DTEND;TZID=Europe/Berlin:20251110T213000
DTSTAMP:20260420T055232
CREATED:20250105T141716Z
LAST-MODIFIED:20250105T141716Z
UID:1296-1762804800-1762810200@www.tgseehund.de
SUMMARY:PTG: Tauchsicherheit
DESCRIPTION:
URL:https://www.tgseehund.de/termin/ptg-tauchsicherheit-2/
LOCATION:Hallenbad Ravensburg\, Ziegelstraße 33\, Ravensburg\, 88214\, Deutschland
CATEGORIES:Training
END:VEVENT
BEGIN:VEVENT
DTSTART;TZID=Europe/Berlin:20251103T200000
DTEND;TZID=Europe/Berlin:20251103T213000
DTSTAMP:20260420T055232
CREATED:20250105T141716Z
LAST-MODIFIED:20250105T141716Z
UID:1295-1762200000-1762205400@www.tgseehund.de
SUMMARY:ABC: Zeittauchen
DESCRIPTION:
URL:https://www.tgseehund.de/termin/abc-zeittauchen-3/
LOCATION:Hallenbad Ravensburg\, Ziegelstraße 33\, Ravensburg\, 88214\, Deutschland
CATEGORIES:Training
END:VEVENT
BEGIN:VEVENT
DTSTART;TZID=Europe/Berlin:20251027T200000
DTEND;TZID=Europe/Berlin:20251027T213000
DTSTAMP:20260420T055232
CREATED:20250105T141716Z
LAST-MODIFIED:20250105T141716Z
UID:1294-1761595200-1761600600@www.tgseehund.de
SUMMARY:Kein Training: Herbstferien
DESCRIPTION:
URL:https://www.tgseehund.de/termin/kein-training-herbstferien-7/
LOCATION:Hallenbad Ravensburg\, Ziegelstraße 33\, Ravensburg\, 88214\, Deutschland
CATEGORIES:Training
END:VEVENT
BEGIN:VEVENT
DTSTART;VALUE=DATE:20251025
DTEND;VALUE=DATE:20251026
DTSTAMP:20260420T055232
CREATED:20250209T163637Z
LAST-MODIFIED:20250209T163637Z
UID:1322-1761350400-1761436799@www.tgseehund.de
SUMMARY:Vereinsausflug nach Nürnberg
DESCRIPTION:
URL:https://www.tgseehund.de/termin/vereinsausflug-nach-nuernberg/
CATEGORIES:Vereinsintern
END:VEVENT
BEGIN:VEVENT
DTSTART;TZID=Europe/Berlin:20251020T200000
DTEND;TZID=Europe/Berlin:20251020T213000
DTSTAMP:20260420T055232
CREATED:20250105T141715Z
LAST-MODIFIED:20250105T141715Z
UID:1293-1760990400-1760995800@www.tgseehund.de
SUMMARY:ABC: Vertrauen
DESCRIPTION:
URL:https://www.tgseehund.de/termin/abc-vertrauen-2/
LOCATION:Hallenbad Ravensburg\, Ziegelstraße 33\, Ravensburg\, 88214\, Deutschland
CATEGORIES:Training
END:VEVENT
BEGIN:VEVENT
DTSTART;TZID=Europe/Berlin:20251013T200000
DTEND;TZID=Europe/Berlin:20251013T213000
DTSTAMP:20260420T055232
CREATED:20250105T141715Z
LAST-MODIFIED:20250105T141715Z
UID:1292-1760385600-1760391000@www.tgseehund.de
SUMMARY:ABC: Apnoe
DESCRIPTION:
URL:https://www.tgseehund.de/termin/abc-apnoe-2/
LOCATION:Hallenbad Ravensburg\, Ziegelstraße 33\, Ravensburg\, 88214\, Deutschland
CATEGORIES:Training
END:VEVENT
BEGIN:VEVENT
DTSTART;TZID=Europe/Berlin:20251006T200000
DTEND;TZID=Europe/Berlin:20251006T213000
DTSTAMP:20260420T055232
CREATED:20250105T141658Z
LAST-MODIFIED:20250105T141658Z
UID:1291-1759780800-1759786200@www.tgseehund.de
SUMMARY:PTG: Tauchen im Winter
DESCRIPTION:
URL:https://www.tgseehund.de/termin/ptg-tauchen-im-winter-3/
LOCATION:Hallenbad Ravensburg\, Ziegelstraße 33\, Ravensburg\, 88214\, Deutschland
CATEGORIES:Training
END:VEVENT
BEGIN:VEVENT
DTSTART;TZID=Europe/Berlin:20250929T200000
DTEND;TZID=Europe/Berlin:20250929T213000
DTSTAMP:20260420T055232
CREATED:20250105T141657Z
LAST-MODIFIED:20250105T141657Z
UID:1290-1759176000-1759181400@www.tgseehund.de
SUMMARY:ABC: Allerlei Bretter und Nudeln
DESCRIPTION:
URL:https://www.tgseehund.de/termin/abc-allerlei-bretter-und-nudeln-2/
LOCATION:Hallenbad Ravensburg\, Ziegelstraße 33\, Ravensburg\, 88214\, Deutschland
CATEGORIES:Training
END:VEVENT
END:VCALENDAR